Workbook
Name activity: 'ВД и СКИ'!$E$22:$E$25
Name availability_price: TEHSHEET!$K$8
Name CHECK_LINK_RANGE_1: "Калькуляция!$I$11:$I$132"
Name checkCell_List09: Территории!$D$17:$L$17
Name checkCell_List11: 'Форма 4.7'!$D$10:$G$19
Name checkDEfCell_List09: Территории!$F$6
Name chkGetUpdatesValue: Инструкция!$AA$81
Name chkNoUpdatesValue: Инструкция!$AA$83
Name code: Инструкция!$B$2
Name connection_flag: Титульный!$F$34
Name copy_f_quart: Титульный!$C$21
Name copy_f_year: Титульный!$C$20
Name CURRENT_DATE: TEHSHEET!$G$17
Name data_List11: 'Форма 4.7'!$F$12:$G$19
Name data_type: TEHSHEET!$M$2:$M$3
Name DATA_URL: TEHSHEET!$K$11
Name DESCRIPTION_TERRITORY: REESTR_DS!$B$2:$B$3
Name diff_tariff: Титульный!$F$16
Name DocProp_TemplateCode: TEHSHEET!$L$2
Name DocProp_Version: TEHSHEET!$L$1
Name et_Comm: et_union_hor!$5:$5
Name et_List02_mo: et_union_hor!$60:$60
Name et_List02_mr: et_union_hor!$59:$59
Name et_List02_st: et_union_hor!$49:$56
Name et_List02_ter: et_union_hor!$57:$58
Name et_List03: et_union_hor!$45:$45
Name et_List04: et_union_hor!$9:$9
Name et_List07_01: et_union_hor!$29:$31
Name et_List07_04: et_union_hor!$35:$36
Name et_List07_05: et_union_hor!$40:$40
Name et_List09_0: et_union_hor!$15:$16
Name et_List09_1: et_union_hor!$20:$21
Name et_List09_2: et_union_hor!$25:$25
Name et_List11_1: et_union_hor!$68:$68
Name f_quart: Титульный!$F$21
Name f_year: Титульный!$F$20
Name fil: Титульный!$F$27
Name fil_flag: Титульный!$F$23
Name FirstLine: Инструкция!$A$6
Name flag_publication: Титульный!$F$11:$F$11
Name flagUsedTer_List09: Территории!$P$11:$P$17
Name form_type: Титульный!$F$13
Name form_up_date: Титульный!$F$14
Name gblnRefreshPForms: TEHSHEET!$G$20
Name Info_ChngExcludeHelp_1: modInfo!$B$10
Name Info_DiffExcludeHelp_1: modInfo!$B$5
Name Info_DiffExcludeHelp_2: modInfo!$B$6
Name Info_DiffExcludeHelp_3: modInfo!$B$7
Name Info_DiffExcludeHelp_4: modInfo!$B$8
Name Info_NoUpdates: modInfo!$B$11
Name Info_TerExcludeHelp_1: modInfo!$B$2
Name Info_TerExcludeHelp_2: modInfo!$B$3
Name inn: Титульный!$F$28
Name Instr_1: Инструкция!$7:$19
Name Instr_2: Инструкция!$20:$34
Name Instr_3: Инструкция!$35:$45
Name Instr_4: Инструкция!$46:$57
Name Instr_5: Инструкция!$58:$69
Name Instr_6: Инструкция!$70:$78
Name Instr_7: Инструкция!$79:$93

Sheet Инструкция
AA1: (требуется обновление)
B2: ="Код шаблона: " & GetCode() -> Код шаблона: FAS.JKH.OPEN.INFO.TERMS.WARM
B3: ="Версия " & GetVersion() -> Версия 1.0.1
B5: =Титульный!E5 -> Информация об условиях, на которых осуществляется поставка товаров (оказание услуг)
E7: • На рабочем месте должен быть установлен MS Office 2007 SP3, 2010, 2013, 2016 с полной версией MS Excel • Макросы во время работы должны быть включены (!) • Для корректной работы отчёта требуется выбрать низкий уровень безопасности (В меню MS Excel 2007/2010/2013/2016: Параметры Excel | Центр управления безопасностью | Параметры центра управления безопасностью | Параметры макросов | Включить все макросы | ОК) • Если Вы работаете в табличном процессоре MS Excel 2007 и выше, то можете использовать для работы формат XLSB (Двоичная книга Excel). При работе в формате XLSB заметно быстрее происходит сохранение файла, а также уменьшается размер по сравнению с форматами XLS и XLSM • Не рекомендуется снимать защиту с листов и каким-либо образом модифицировать защищаемые формулы и расчётные поля, в противном случае, отчёт будет отклонён системой • При сохранении не следует выбирать формат XLSX (Книга Excel), так как в указанном формате макросы, необходимые для работы отчёта, безвозвратно удаляются
E21: A | F21: - не обязательные для заполнения | O21: A | P21: - с формулами и константами
E22: A | F22: - обязательные для заполнения | O22: A | P22: - с выбором значений по двойному клику
E35: Если в предложенном Вам списке необходимая организация, МР/МО отсутствуют, обновите реестры с помощью кнопок В результате синхронизации с базой данных список организаций (МР/МО) будет заменён актуальным (механизм синхронизации требует подключения к сети Интернет и основан на использовании протокола HTTPS (TCP порт 443)) Если после обновления Вам не удалось найти необходимую организацию в списке, обратитесь к ответственному за поддержание реестра Вашего региона.
E46: • При сохранении шаблона осуществляется проверка корректности данных, в том числе на наличие значений в ячейках, обязательных для заполнения • Если какая-то ячейка не удовлетворяет условию проверки, на лист «Проверка» добавляется гиперссылка на данную ячейку и указывается причина ошибки • В колонке «Статус» для каждого сообщения возможны 2 значения: ошибка и предупреждение • При наличии сообщений со статусом «Ошибка» шаблон будет отклонён системой и не будет загружен в хранилище данных, сообщения со статусом «Предупреждение» носят информационный характер, и такой шаблон будет принят системой
E58: Обратиться за помощью в службу технической поддержки
E70: Инструкция по загрузке сопроводительных материалов
E71: Инструкция по работе с отчетной формой
E79: При наличии подключения к Интернет, можно автоматически проверять наличие доступных обновлений. Выберите способ оповещения о наличии обновлений для отчёта:
F81: проверять доступные обновления (рекомендуется) | AA81: y
F83: никогда не проверять наличие обновлений (не рекомендуется)

Sheet Лог обновления
A1: Дата/Время | B1: Сообщение | C1: Статус
A2: 44554.465 | B2: Проверка доступных обновлений... | C2: Информация
A3: 44554.465 | B3: Нет доступных обновлений для отчёта с кодом FAS.JKH.OPEN.INFO.TERMS.WARM! | C3: Информация
A4: 44554.465 | B4: Проверка доступных обновлений... | C4: Информация
A5: 44554.465 | B5: Нет доступных обновлений для отчёта с кодом FAS.JKH.OPEN.INFO.TERMS.WARM! | C5: Информация
A6: 44554.466 | B6: Проверка доступных обновлений... | C6: Информация
A7: 44554.466 | B7: Нет доступных обновлений для отчёта с кодом FAS.JKH.OPEN.INFO.TERMS.WARM! | C7: Информация
A8: 44554.467 | B8: Проверка доступных обновлений... | C8: Информация
A9: 44554.467 | B9: Нет доступных обновлений для отчёта с кодом FAS.JKH.OPEN.INFO.TERMS.WARM! | C9: Информация
A10: 44599.559 | B10: Проверка доступных обновлений... | C10: Информация
A11: 44599.559 | B11: Нет доступных обновлений для отчёта с кодом FAS.JKH.OPEN.INFO.TERMS.WARM! | C11: Информация
A12: 44606.44 | B12: Проверка доступных обновлений... | C12: Информация
A13: 44606.44 | B13: Нет доступных обновлений для отчёта с кодом FAS.JKH.OPEN.INFO.TERMS.WARM! | C13: Информация
... A15: 44720.53 | B15: Нет доступных обновлений для отчёта с кодом FAS.JKH.OPEN.INFO.TERMS.WARM! | C15: Информация

Sheet Титульный
F1: 31475145
F4: =version -> Версия 1.0.1
E5: Информация об условиях, на которых осуществляется поставка товаров (оказание услуг)
E7: Субъект РФ | F7: г.Санкт-Петербург
E9: Публикация2 | F9: На сайте регулирующего органа
E11: Отсутствует Интернет в границах территории МО, где организация осуществляет регулируемые виды деятельности | F11: нет
E13: Тип отчета | F13: первичное раскрытие информации
E14: Дата внесения изменений в информацию, подлежащую раскрытию | F14: 24.12.2021
E16: Применяется дифференциация тарифа по централизованным системам горячего водоснабжения?
E17: Информация по скольким централизованным системам горячего водоснабжения будет заполнена в шаблоне?
C20: 2022 | E20: Отчётный период (год) | F20: 2022
E23: Является ли данное юридическое лицо подразделением (филиалом) другой организации | F23: нет
E26: Наименование организации | F26: ООО "АНМ" (Александро-Невская мануфактура)
E27: Наименование филиала
E28: ИНН | F28: 7811185789
E29: КПП | F29: 781101001
E30: Вид деятельности
E32: Тип теплоснабжающей организации | F32: Регулируемая организация
E34: Организация осуществляет подключение (технологическое присоединение) к системе теплоснабжения | F34: нет
E36: Почтовый адрес регулируемой организации | F36: 192029, г. Санкт-Петербург, пр. Обуховской обороны, д. 70, корп. 2, лит. А
E37: Фамилия, имя, отчество руководителя | F37: Смирнова Жанна Геннадьевна
F39: Ответственный за составление формы
E40: Фамилия, имя, отчество | F40: Мацко Юрий Андреевич
E41: Должность | F41: Главный инженер
E42: (код) номер телефона | F42: +7 (812) 336-55-62
E43: e-mail | F43: y.matsko@ukanm.ru
E47: Информация об условиях, на которых осуществляется поставка товаров (оказание услуг) в ценовых зонах теплоснабжения по регулируемым ценам (тарифам) в сфере теплоснабжения, раскрывается единой теплоснабжающей организацией, теплоснабжающей организацией и теплосетевой организацией в ценовых зонах теплоснабжения не позднее 30 календарных дней со дня принятия соответствующего решения об установлении цен (тарифов) на очередной расчетный период регулирования (шаблон FAS.JKH.OPEN.INFO.PRICE.WARM)

Sheet Территории
K1: МО | L1: ОКТМО | M1: МР
D4: Перечень муниципальных районов и муниципальных образований (территорий оказания услуг)
F6: да
D8: Территория оказания услуг | F8: Муниципальный район | I8: Муниципальное образование
D9: № п/п | E9: Наименование | F9: № п/п | H9: Наименование | I9: № п/п | K9: Наименование | L9: ОКТМО
D10: 1 | E10: 2 | F10: 3 | H10: 4 | I10: 5 | K10: 6 | L10: 7
D11: 0 | M11: размерженный МР | P11: флаг используемости территории на листе Перечень тарифов | Q11: копия территорий | R11: МР (ОКТМО)
B12: auto | D12: 1 | E12: город Санкт-Петербург, муниципальный округ Невская застава (40378000); | G12: 0 | J12: 0 | M12: =mergeValue(H12) -> 0 | P12: {=IF(ISERROR(MATCH(MID(Q12,1,250),MID(note_ter,1,250),0)),"n","y")} -> n | Q12: город Санкт-Петербург, муниципальный округ Невская застава (40378000); | R12: =K12&"("&L12&")" -> ()
B13: auto | G13: 1 | H13: город Санкт-Петербург | J13: 0 | M13: =mergeValue(H13) -> город Санкт-Петербург | R13: =K13&"("&L13&")" -> ()
B14: auto | J14: 1 | K14: муниципальный округ Невская застава | L14: 40378000 | M14: =mergeValue(H14) -> город Санкт-Петербург | R14: =K14&" ("&L14&")" -> муниципальный округ Невская застава (40378000)
B17: man | Q17: Добавить территорию оказания услуг

Sheet ВД и СКИ
D4: =Титульный!E5 -> Информация об условиях, на которых осуществляется поставка товаров (оказание услуг)
D5: =IF(org=0,"Не определено",org) -> ООО "АНМ" (Александро-Невская мануфактура)
D18: Вид деятельности | F18: Территория оказания услуг | J18: Централизованные системы коммунальной инфраструктуры
D19: № п/п | E19: Наименование | F19: да/нет | G19: № п/п | I19: Наименование | J19: да/нет | K19: № п/п | M19: Наименование
D20: 1 | E20: 2 | F20: 3 | G20: 4 | I20: 5 | J20: 6 | K20: 7 | M20: 8
D22: 1 | E22: Производство тепловой энергии. Некомбинированная выработка; Сбыт. Тепловая энергия | F22: нет | H22: 1 | J22: нет | L22: 1 | X22: 4190064;4190070 | Y22: a | Z22: 1705000

Sheet Форма 1.0.1 | Форма 4.7
G1: 4
D5: Форма 1.0.1 Основные параметры раскрываемой информации 1
D6: =IF(org=0,"Не определено",org) -> ООО "АНМ" (Александро-Невская мануфактура)
C8: 22
D9: Параметры формы | G9: Описание параметров формы
A10: \ | D10: № п/п | F10: Информация
D11: 1 | E11: 2 | F11: 3 | G11: 4
D12: 1 | E12: Дата заполнения/внесения изменений | F12: =IF(form_up_date="","",form_up_date) -> 24.12.2021 | G12: Указывается календарная дата первичного заполнения или внесения изменений в форму в виде «ДД.ММ.ГГГГ».
D13: 2.1 | E13: Наименование централизованной системы коммунальной инфраструктуры | F13: наименование отсутствует | G13: Указывается наименование централизованной системы холодного водоснабжения/горячего водоснабжения/водоотведения/теплоснабжения, к которой относится размещаемая информация. В случае наличия нескольких централизованных систем коммунальной инфраструктуры, информация по каждой из них указывается в отдельной строке.
D14: 3.1 | E14: Наименование регулируемого вида деятельности | F14: Производство тепловой энергии. Некомбинированная выработка; Сбыт. Тепловая энергия | G14: Указывается наименование вида регулируемой деятельности.
D15: 4.1 | E15: Территория оказания услуги по регулируемому виду деятельности | F15: x
D16: =D15&".1" -> 4.1.1 | E16: Субъект РФ | F16: =IF(region_name="","",region_name) -> г.Санкт-Петербург | G16: Указывается наименование субъекта Российской Федерации
D17: 4.1.1.1 | E17: муниципальный район | F17: город Санкт-Петербург | G17: Указывается наименование муниципального района, на территории которого организация оказывает услуги по регулируемому виду деятельности.
D18: 4.1.1.1.1 | E18: муниципальное образование | F18: муниципальный округ Невская застава (40378000) | G18: Указывается наименование и код муниципального района, муниципального образования в соответствии с Общероссийским классификатором территорий муниципальных образований (далее - ОКТМО), входящего в муниципальный район, на территории которого организация оказывает услуги по регулируемому виду деятельности. В случае оказания услуг по регулируемому виду деятельности на территории нескольких муниципальных районов (муниципальных образований) данные по каждому их них указываются в отдельной строке.
E20: 1 Информация по данной форме публикуется при раскрытии информации по каждой из форм.

Sheet Форма 4.7
D5: Форма 4.7 Информация об условиях, на которых осуществляется поставка товаров и (или) оказание услуг
D7: Параметры формы | G7: Описание параметров формы
D8: № п/п | E8: Наименование параметра | F8: Ссылка на документ
D9: 1 | E9: 2 | F9: 3 | G9: 4
D10: 1 | E10: Сведения об условиях публичных договоров поставок товаров, оказания услуг, в том числе договоров о подключении к системе теплоснабжения | F10: x
D11: 1.1 | E11: форма публичного договора поставки товаров, оказания услуг | F11: x
D12: 1.1.1 | E12: публичный договор поставки тепловой энергии | F12: https://portal.eias.ru/Portal/DownloadPage.aspx?type=12&guid=47168793-6663-42d6-a238-d191e55af0d6 | G12: Указывается форма договора, используемая регулируемой организацией, в виде ссылки на документ, предварительно загруженный в хранилище файлов ФГИС ЕИАС. В случае наличия нескольких форм таких договоров информация по каждой из них указывается в отдельной строке.
E13: Добавить сведения
D14: 1.2 | E14: договор о подключении к системе теплоснабжения | F14: x
D15: 1.2.1 | G15: Информация размещается в случае, если организация осуществляет услуги по подключению (технологическому присоединению) к системе теплоснабжения. Указывается ссылка на документ, предварительно загруженный в хранилище файлов ФГИС ЕИАС. В случае наличия нескольких договоров о подключении к системе теплоснабжения информация по каждому из них указывается в отдельной строке.
E16: Добавить сведения
D17: 1.3 | E17: прочие договора | F17: x
D18: 1.3.0
E19: Добавить сведения

Sheet Форма 1.0.2
D5: Форма 1.0.2 Информация о публикации в печатных изданиях 2
D8: Параметры формы | K8: Описание параметров формы
D9: № п/п | E9: Форма публикации | G9: Официальное печатное издание
E10: Номер | F10: Наименование | G10: Наименование | H10: Номер | I10: Дата выпуска | J10: Ссылка на документ
D11: 1 | E11: 2 | F11: 3 | G11: 4 | H11: 5 | I11: 6 | J11: 7 | K11: 8
A12: 3 | D12: 1 | K12: В колонке «Дата выпуска» дата выпуска печатного издания указывается в виде «ДД.ММ.ГГГГ». В колонке «Ссылка на документ» указывается ссылка на отсканированную копию печатного издания, предварительно загруженную в хранилище федеральной государственной информационной системы «Единая информационно-аналитическая система «Федеральный орган регулирования - региональные органы регулирования - субъекты регулирования» (далее – ФГИС ЕИАС), с опубликованной информацией. В случае публикации информации в нескольких печатных изданиях информация по каждому из них указывается в отдельной строке. | M12: =IF(ISERROR(INDEX(kind_of_nameforms,MATCH(E12,kind_of_forms,0),1)),"",INDEX(kind_of_nameforms,MATCH(E12,kind_of_forms,0),1))
E13: Добавить строку
E15: 2 В данной форме публикуется информация по каждой из форм раскрытия, данные в которой относятся к муниципальному образованию, в котором отсутствует доступ в информационно-телекоммуникационную сеть «Интернет» (далее – сеть «Интернет»).

Sheet Сведения об изменении
D7: Сведения об изменениях в первоначально опубликованной информации
D8: =IF(org=0,"Не определено",org) -> ООО "АНМ" (Александро-Невская мануфактура)
D10: № п/п | E10: Сведения
D11: 1 | E11: 2
D12: 0
D13: 1
E14: Добавить строку

Sheet Комментарии
D7: Комментарии
D8: =IF(org=0,"Не определено",org) -> ООО "АНМ" (Александро-Невская мануфактура)
D10: № п/п | E10: Комментарий
D11: 1 | E11: 2
D12: 0
E13: Добавить

Sheet Проверка
B2: Результат проверки
B4: Ссылка1 | C4: Ссылка2 | D4: Причина | E4: Статус

Sheet modProv

Sheet modReestr

Sheet AllSheetsInThisWorkbook
A1: Расчетные листы | B1: Скрытые листы
A2: Инструкция | B2: modProv
A3: Лог обновления | B3: modReestr
A4: Титульный | B4: AllSheetsInThisWorkbook
A5: Территории | B5: modCheckCyan
A6: ВД и СКИ | B6: modInfo
A7: Форма 1.0.1 | Форма 4.7 | B7: TEHSHEET
A8: Форма 4.7 | B8: modList11
A9: Форма 1.0.2 | B9: et_union_hor
A10: Сведения об изменении | B10: et_union_vert
A11: Комментарии | B11: modList00
A12: Проверка | B12: modList02
B13: modList03
B14: modList04
B15: modList07
B16: modList09
B17: modHTTP
B18: modfrmRegion
B19: MR_LIST
B20: REESTR_VT
B21: REESTR_VED
B22: modfrmReestrObj
B23: DataOrg
B24: modfrmReestr
... B39: REESTR_LINK

Sheet modCheckCyan
A1: =IF('ВД и СКИ'!$E$22="",1,0) -> 0
A2: =IF('ВД и СКИ'!$F$22="",1,0) -> 0
A3: =IF('ВД и СКИ'!$J$22="",1,0) -> 0
A4: =IF('Форма 4.7'!$E$12="",1,0) -> 0
A5: =IF('Форма 4.7'!$F$12="",1,0) -> 0
A6: =IF('Форма 1.0.2'!$E$12="",1,0) -> 1
A7: =IF('Форма 1.0.2'!$F$12="",1,0) -> 1
A8: =IF('Форма 1.0.2'!$G$12="",1,0) -> 1
A9: =IF('Форма 1.0.2'!$H$12="",1,0) -> 1
A10: =IF('Форма 1.0.2'!$I$12="",1,0) -> 1
A11: =IF('Форма 1.0.2'!$J$12="",1,0) -> 1
A12: =IF('Сведения об изменении'!$E$13="",1,0) -> 1
A13: =IF(Территории!$E$12="",1,0) -> 0

Sheet modInfo
B1: Территории
A2: 1 | B2: Наименование территории оказания услуг для целей идентификации
A3: 2 | B3: Муниципальные районы и муниципальные образования, на территории которых осуществляется оказание услуг
B4: Дифференциация
A5: 1 | B5: В случае, если регулируемая организация осуществляет несколько видов деятельности, информация о которых подлежит раскрытию, информация по каждому виду деятельности раскрывается отдельно.
A6: 2 | B6: Поле заполняется выбором значений из списка. Если значений для выбора нет - убедитесь, что лист "Территории" заполнен.
A7: 3 | B7: Условное наименование централизованной системы коммунальной инфраструктуры для целей идентификации.
A8: 4 | B8: В случае, если регулируемыми организациями оказываются услуги по нескольким технологически не связанным между собой централизованным системам коммунальной инфраструктуры и если в отношении указанных централизованных систем устанавливаются различные тарифы, то информация раскрывается отдельно по каждой централизованной системе коммунальной инфраструктуры.
B9: Сведения об изменении
A10: 1 | B10: Лист заполняется в случае, если на Титульном листе в поле "Тип отчета" выбрано значение «Изменения в раскрытой ранее информации».
B11: Нет доступных обновлений, версия отчёта актуальна

Sheet TEHSHEET
A1: REGION | C1: year_list | D1: logical | E1: Месяц (MONTH) | F1: Квартал (QUARTER) | G1: Месяц (kind_of_publication) | H1: Единица измерения объема оказываемых услуг ГВС /kind_of_unit_GVS/ | I1: Вид тарифа /list_of_tariff/ | J1: mr_id | K1: версия шаблона (DocProp_Version) | L1: 0.1 | M1: Тип отчета data_type | O1: Источники финансирования /source_of_funding/ | P1: цель инвестиционной программы /kind_of_purchase_method/ | S1: Перечень форм (kind_of_forms) | V1: цель инвестиционной программы /objective_of_IPR/ | Z1: Тип организации kind_of_org_type
A2: Алтайский край | C2: 2017 | D2: да | E2: январь | F2: I квартал | G2: На официальном сайте организации | H2: тыс.куб.м/сутки | J2: 52 | K2: код шаблона (DocProp_TemplateCode) | L2: FAS.JKH.OPEN.INFO.TERMS.WARM | M2: первичное раскрытие информации | O2: кредиты банков | P2: Торги/аукционы | S2: Форма 1.0.1 | T2: Основные параметры раскрываемой информации | V2: автоматизация (с уменьшением штата) | W2: FALSE | Z2: Регулируемая организация
A3: Амурская область | C3: 2018 | D3: нет | E3: февраль | F3: II квартал | G3: На сайте регулирующего органа | H3: Гкал/час | I3: Без дифференциации | J3: sys_id | K3: сфера (TSphere) | L3: ТС | M3: изменения в раскрытой ранее информации | O3: кредиты иностранных банков | P3: Прямые договора без торгов | S3: Форма 4.7 | T3: Информация об условиях, на которых осуществляется поставка товаров и (или) оказание услуг | V3: уменьшение удельных затрат (повышение КПД) | W3: FALSE | Z3: Единая теплоснабжающая организация в ценовой зоне теплоснабжения
A4: Архангельская область | C4: 2019 | E4: март | F4: III квартал | H4: куб.м/час | J4: 104 | K4: сфера(латиница) (TSphere_trans) | L4: WARM | O4: заемные средства др. организаций | P4: Прочее | V4: уменьшение издержек на производство | W4: FALSE | Z4: Теплоснабжающая организация в ценовой зоне теплоснабжения
A5: Астраханская область | C5: 2020 | E5: апрель | F5: IV квартал | K5: сфера расширено (TSphere_full) | O5: федеральный бюджет | V5: снижение аварийности | W5: FALSE | Z5: Теплосетевая организация в ценовой зоне теплоснабжения
A6: Белгородская область | C6: 2021 | E6: май | O6: бюджет субъекта Российской Федерации | V6: прочее | W6: FALSE
A7: Брянская область | C7: 2022 | E7: июнь | O7: бюджет муниципального образования
A8: Владимирская область | E8: июль | K8: true | O8: средства внебюджетных фондов
A9: Волгоградская область | E9: август | O9: прибыль, направленная на инвестиции
A10: Вологодская область | E10: сентябрь | O10: амортизация
A11: Воронежская область | E11: октябрь | O11: инвестиционная надбавка к тарифу
A12: г.Байконур | E12: ноябрь | O12: плата за подключение (технологическое присоединение)
A13: г. Москва | E13: декабрь | O13: прочие средства
A14: г.Санкт-Петербург
A15: г.Севастополь
A16: Еврейская автономная область | G16: Текущая дата
A17: Забайкальский край | C17: Организация | D17: =IF(f_year = "","", "01.01."&f_year) -> 01.01.2022 | E17: =IF(f_year = "","","31.12."& f_year) -> 31.12.2022 | G17: 14.02.2022 15:40:57
A18: Ивановская область
A19: Иркутская область | G19: Признак изменения данных на листе Доступ к товарам и услугам
A20: Кабардино-Балкарская республика | C20: Виды деятельности | G20: TRUE
A21: Калининградская область
A22: Калужская область
A23: Камчатский край
A24: Карачаево-Черкесская республика
A25: Кемеровская область
A26: Кировская область
A27: Костромская область
A28: Краснодарский край
A29: Красноярский край
A30: Курганская область
A31: Курская область
A32: Ленинградская область
... A87: Ярославская область

Sheet modList11

Sheet et_union_hor
A3: et_Comm
A7: et_List04
A13: et_List09_0
B15: auto | D15: 1 | G15: 0 | J15: 0 | M15: =mergeValue(H15) -> 0 | P15: {=IF(ISERROR(MATCH(MID(Q15,1,250),MID(note_ter,1,250),0)),"n","y")} -> y | R15: =K15&"("&L15&")" -> ()
H16: Добавить МР
A18: et_List09_1
B20: auto | G20: 0 | J20: 0 | M20: =mergeValue(H20) -> 0 | R20: =K20&"("&L20&")" -> ()
K21: Добавить МО
A23: et_List09_2
B25: auto | J25: 0 | M25: =mergeValue(H25) -> 0 | R25: =K25&" ("&L25&")" -> ()
A27: et_List07_1
D29: 1 | F29: нет | H29: 1 | J29: нет | L29: 1 | Y29: a | Z29: 1705000
M30: Добавить централизованную систему коммунальной инфраструктуры
I31: Добавить описание территории оказания услуг
A33: et_List07_4
H35: 1 | J35: нет | L35: 1 | Y35: a | Z35: 1705000
M36: Добавить централизованную систему коммунальной инфраструктуры
A38: et_List07_5
L40: 1 | Y40: a | Z40: 1705000
A43: et_List03
A45: 3 | M45: =IF(ISERROR(INDEX(kind_of_nameforms,MATCH(E45,kind_of_forms,0),1)),"",INDEX(kind_of_nameforms,MATCH(E45,kind_of_forms,0),1))
A47: et_List02_st | B47: et_List02_ter | C47: et_List02_mr | D47: et_List02_mo
D51: Параметры формы | G51: Описание параметров формы
A52: \ | D52: № п/п | F52: Информация
D53: 1 | E53: 2 | F53: 3 | G53: 4
D54: 1 | E54: Дата заполнения/внесения изменений | F54: =IF(form_up_date="","",form_up_date) -> 24.12.2021 | G54: Указывается календарная дата первичного заполнения или внесения изменений в форму в виде «ДД.ММ.ГГГГ».
D55: 2.1 | E55: Наименование централизованной системы коммунальной инфраструктуры | G55: Указывается наименование централизованной системы холодного водоснабжения/горячего водоснабжения/водоотведения/теплоснабжения, к которой относится размещаемая информация. В случае наличия нескольких централизованных систем коммунальной инфраструктуры, информация по каждой из них указывается в отдельной строке.
D56: 3.1 | E56: Наименование регулируемого вида деятельности | G56: Указывается наименование вида регулируемой деятельности.
D57: 4.1 | E57: Территория оказания услуги по регулируемому виду деятельности | F57: x
D58: =D57&".1" -> 4.1.1 | E58: Субъект РФ | F58: =IF(region_name="","",region_name) -> г.Санкт-Петербург | G58: Указывается наименование субъекта Российской Федерации
D59: 4.1.1.1 | E59: муниципальный район | G59: Указывается наименование муниципального района, на территории которого организация оказывает услуги по регулируемому виду деятельности.
D60: 4.1.1.1.1 | E60: муниципальное образование | G60: Указывается наименование и код муниципального района, муниципального образования в соответствии с Общероссийским классификатором территорий муниципальных образований (далее - ОКТМО), входящего в муниципальный район, на территории которого организация оказывает услуги по регулируемому виду деятельности. В случае оказания услуг по регулируемому виду деятельности на территории нескольких муниципальных районов (муниципальных образований) данные по каждому их них указываются в отдельной строке.
A66: et_List11_1

Sheet et_union_vert

Sheet modList00

Sheet modList02

Sheet modList03

Sheet modList04

Sheet modList07

Sheet modList09

Sheet modHTTP

Sheet modfrmRegion

Sheet MR_LIST

Sheet REESTR_VT

Sheet REESTR_VED
A1: ID_TARIFF_NAME | B1: VED_NAME
A2: 4190064 | B2: Производство тепловой энергии. Некомбинированная выработка
A3: 4190065 | B3: Производство тепловой энергии. Комбинированная выработка с уст. мощностью производства электрической энергии менее 25 МВт
A4: 4190066 | B4: Производство тепловой энергии. Комбинированная выработка с уст. мощностью производства электрической энергии 25 МВт и более
A5: 4190067 | B5: Производство. Теплоноситель
A6: 4190068 | B6: Передача. Тепловая энергия
A7: 4190069 | B7: Передача. Теплоноситель
A8: 4190070 | B8: Сбыт. Тепловая энергия
A9: 4190071 | B9: Сбыт. Теплоноситель
A10: 4190072 | B10: Подключение (технологическое присоединение) к системе теплоснабжения
A11: 4190073 | B11: Поддержание резервной тепловой мощности при отсутствии потребления тепловой энергии

Sheet modfrmReestrObj

Sheet DataOrg

Sheet modfrmReestr

Sheet modUpdTemplMain

Sheet REESTR_ORG
A1: № | B1: REGION_ID | C1: REGION_NAME | D1: RST_ORG_ID | E1: ORG_NAME | F1: INN_NAME | G1: KPP_NAME | H1: ORG_START_DATE | I1: ORG_END_DATE
A2: 1 | B2: 2614 | C2: г.Санкт-Петербург | D2: 26641633 | E2: АО "АТЭК" | F2: 7826135558 | G2: 780501001 | J2: WARM
A3: 2 | B3: 2614 | C3: г.Санкт-Петербург | D3: 26422350 | E3: АО "Аккумуляторная компания "Ригель" | F3: 7813054118 | G3: 781301001 | J3: WARM
A4: 3 | B4: 2614 | C4: г.Санкт-Петербург | D4: 26420583 | E4: АО "Аэропорт "Пулково" | F4: 7810091320 | G4: 783450001 | J4: WARM
A5: 4 | B5: 2614 | C5: г.Санкт-Петербург | D5: 26422149 | E5: АО "БЦ "АКВИЛОН" | F5: 7802067080 | G5: 780201001 | J5: WARM
A6: 5 | B6: 2614 | C6: г.Санкт-Петербург | D6: 31203865 | E6: АО "Балтийский завод" | F6: 7830001910 | G6: 780101001 | J6: WARM
A7: 6 | B7: 2614 | C7: г.Санкт-Петербург | D7: 28155116 | E7: АО "ВНИИРА" | F7: 7801236681 | G7: 783450001 | J7: WARM
A8: 7 | B8: 2614 | C8: г.Санкт-Петербург | D8: 28266590 | E8: АО "Василеостровская Фабрика" | F8: 7825115990 | G8: 780101001 | J8: WARM
A9: 8 | B9: 2614 | C9: г.Санкт-Петербург | D9: 26847594 | E9: АО "Водтрансприбор" | F9: 7814010307 | G9: 781401001 | J9: WARM
A10: 9 | B10: 2614 | C10: г.Санкт-Петербург | D10: 26361120 | E10: АО "ГСР ТЭЦ" | F10: 7817312063 | G10: 781701001 | J10: WARM
A11: 10 | B11: 2614 | C11: г.Санкт-Петербург | D11: 26560525 | E11: АО "ГУ ЖКХ" | F11: 5116000922 | G11: 511601001 | H11: 13-05-2009 00:00:00 | J11: WARM
A12: 11 | B12: 2614 | C12: г.Санкт-Петербург | D12: 30335229 | E12: АО "ГУ ЖКХ" | F12: 5116000922 | G12: 770401001 | J12: WARM
A13: 12 | B13: 2614 | C13: г.Санкт-Петербург | D13: 28491236 | E13: АО "Гостиница "Туррис" | F13: 7830002575 | G13: 781001001 | J13: WARM
A14: 13 | B14: 2614 | C14: г.Санкт-Петербург | D14: 28450115 | E14: АО "Группа Прайм" | F14: 7825696286 | G14: 780201001 | J14: WARM
A15: 14 | B15: 2614 | C15: г.Санкт-Петербург | D15: 26641637 | E15: АО "Завод имени А.А.Кулакова" | F15: 7813346618 | G15: 781301001 | J15: WARM
A16: 15 | B16: 2614 | C16: г.Санкт-Петербург | D16: 27621401 | E16: АО "Завод имени М.И.Калинина" | F16: 7801566094 | G16: 780101001 | J16: WARM
A17: 16 | B17: 2614 | C17: г.Санкт-Петербург | D17: 28812728 | E17: АО "КИНОСТУДИЯ "ЛЕНФИЛЬМ" | F17: 7813200545 | G17: 781301001 | J17: WARM
A18: 17 | B18: 2614 | C18: г.Санкт-Петербург | D18: 26361104 | E18: АО "КировТЭК" | F18: 7805060502 | G18: 780501001 | J18: WARM
A19: 18 | B19: 2614 | C19: г.Санкт-Петербург | D19: 27827361 | E19: АО "Кожа" | F19: 7801133686 | G19: 780101001 | J19: WARM
A20: 19 | B20: 2614 | C20: г.Санкт-Петербург | D20: 26361095 | E20: АО "Компонент" | F20: 7804046015 | G20: 780401001 | J20: WARM
A21: 20 | B21: 2614 | C21: г.Санкт-Петербург | D21: 28505234 | E21: АО "Кронштадтский морской завод" | F21: 7843003128 | G21: 784301001 | J21: WARM
A22: 21 | B22: 2614 | C22: г.Санкт-Петербург | D22: 26361094 | E22: АО "ЛОМО" | F22: 7804002321 | G22: 783450001 | J22: WARM
A23: 22 | B23: 2614 | C23: г.Санкт-Петербург | D23: 26614924 | E23: АО "ЛСР. Железобетон-СЗ" | F23: 7830000578 | G23: 470501001 | J23: WARM
... A27: 26 | B27: 2614 | C27: г.Санкт-Петербург | D27: 28796102 | E27: АО "НИИ командных приборов" | F27: 7805654288 | G27: 780501001 | J27: WARM
A28: 27 | B28: 2614 | C28: г.Санкт-Петербург | D28: 27628470 | E28: АО "НПП "Краснознамёнец" | F28: 7806469104 | G28: 783450001 | H28: 19-01-2012 00:00:00 | J28: WARM
A29: 28 | B29: 2614 | C29: г.Санкт-Петербург | D29: 27551052 | E29: АО "Невская мануфактура" | F29: 7811056991 | G29: 781101001 | J29: WARM
A30: 29 | B30: 2614 | C30: г.Санкт-Петербург | D30: 31206594 | E30: АО "Особая экономическая зона "Санкт-Петербург" | F30: 7819036901 | G30: 781901001 | J30: WARM
A31: 30 | B31: 2614 | C31: г.Санкт-Петербург | D31: 28155081 | E31: АО "Первый контейнерный терминал" | F31: 7805113497 | G31: 997650001 | J31: WARM
A32: 31 | B32: 2614 | C32: г.Санкт-Петербург | D32: 28072594 | E32: АО "РУСТ-95" | F32: 7728120384 | G32: 781701001 | J32: WARM
A33: 32 | B33: 2614 | C33: г.Санкт-Петербург | D33: 26828034 | E33: АО "РЭУ" филиал "Санкт-Петербургский" | F33: 7714783092 | G33: 783943001 | J33: WARM
A34: 33 | B34: 2614 | C34: г.Санкт-Петербург | D34: 28042569 | E34: АО "Редэс Лтд" | F34: 7801059070 | G34: 780101001 | J34: WARM
A35: 34 | B35: 2614 | C35: г.Санкт-Петербург | D35: 26361106 | E35: АО "Русские самоцветы" | F35: 7806007100 | G35: 783450001 | J35: WARM
A36: 35 | B36: 2614 | C36: г.Санкт-Петербург | D36: 28143840 | E36: АО "Рыбокомбинат" | F36: 7804036909 | G36: 780401001 | J36: WARM
A37: 36 | B37: 2614 | C37: г.Санкт-Петербург | D37: 31416469 | E37: АО "Сетевая компания "ОСК" | F37: 7805735152 | G37: 780501001 | H37: 29-10-2018 00:00:00 | J37: WARM
A38: 37 | B38: 2614 | C38: г.Санкт-Петербург | D38: 26590970 | E38: АО "Совавто-С.Петербург" | F38: 7810216498 | G38: 781001001 | J38: WARM
A39: 38 | B39: 2614 | C39: г.Санкт-Петербург | D39: 28091963 | E39: АО "Телерадиокомпания "Петербург" | F39: 7825404448 | G39: 781301001 | J39: WARM
A40: 39 | B40: 2614 | C40: г.Санкт-Петербург | D40: 26555650 | E40: АО "Теплосеть Санкт-Петербурга" | F40: 7810577007 | G40: 781001001 | J40: WARM
A41: 40 | B41: 2614 | C41: г.Санкт-Петербург | D41: 28152736 | E41: АО "ЦКБ МТ "Рубин" | F41: 7838418751 | G41: 997850001 | J41: WARM
A42: 41 | B42: 2614 | C42: г.Санкт-Петербург | D42: 26533887 | E42: АО "Юго-Западная ТЭЦ" | F42: 7813323258 | G42: 780501001 | J42: WARM
A43: 42 | B43: 2614 | C43: г.Санкт-Петербург | D43: 28042447 | E43: АО ВО "Электроаппарат" | F43: 7801032688 | G43: 780101001 | J43: WARM
...

Sheet modClassifierValidate

Sheet modHyp

Sheet modfrmDateChoose

Sheet modComm

Sheet modThisWorkbook

Sheet REESTR_MO
A1: № | B1: МР | C1: МО | D1: МО_ОКТМО
A2: 1 | B2: город Санкт-Петербург | C2: город Зеленогорск | D2: 40361000
A3: 2 | B3: город Санкт-Петербург | C3: город Колпино | D3: 40342000
A4: 3 | B4: город Санкт-Петербург | C4: город Красное Село | D4: 40353000
A5: 4 | B5: город Санкт-Петербург | C5: город Кронштадт | D5: 40360000
A6: 5 | B6: город Санкт-Петербург | C6: город Ломоносов | D6: 40372000
A7: 6 | B7: город Санкт-Петербург | C7: город Павловск | D7: 40387000
A8: 7 | B8: город Санкт-Петербург | C8: город Петергоф | D8: 40395000
A9: 8 | B9: город Санкт-Петербург | C9: город Пушкин | D9: 40397000
A10: 9 | B10: город Санкт-Петербург | C10: город Санкт-Петербург | D10: 40000000
A11: 10 | B11: город Санкт-Петербург | C11: город Сестрорецк | D11: 40362000
A12: 11 | B12: город Санкт-Петербург | C12: муниципальный округ № 15 | D12: 40317000
A13: 12 | B13: город Санкт-Петербург | C13: муниципальный округ № 21 | D13: 40331000
... A113: 112 | B113: город Санкт-Петербург | C113: поселок Шушары | D113: 40901000

Sheet REESTR_MO_FILTER

Sheet modfrmReestrMR

Sheet modServiceModule

Sheet modfrmCheckUpdates

Sheet REESTR_DS
B3: город Санкт-Петербург, муниципальный округ Невская застава (40378000);

Sheet REESTR_CHS

Sheet REESTR_LINK
A1: ID | B1: LINK_NAME | C1: REGION
A2: 4189678 | B2: https://portal.eias.ru/Portal/DownloadPage.aspx?type=12&guid=????????-????-????-????-???????????? | C2: ALL
A3: 4190415 | B3: https://eias.fstrf.ru/disclo/get_file?p_guid=????????-????-????-????-???????????? | C3: ALL
